BEGIN:VCALENDAR
VERSION:2.0
PRODID:-//Tukios.com/
BEGIN:VEVENT
UID:bcc9d86e-d21b-402c-a777-52e7e53aabce@www.papich-kubafs.com
DTSTAMP:20260421T205858Z
DTSTART:20260424T210000Z
DTEND:20260424T230000Z
SUMMARY:Visitation
DESCRIPTION:
URL:https://www.papich-kubafs.com/obituaries/jon-homsey
LOCATION: 1228 2nd St SE  Cedar Rapids IA 52401
GEO:41.9690904;-91.6582608
END:VEVENT
END:VCALENDAR