BEGIN:VCALENDAR
VERSION:2.0
PRODID:-//Tukios.com/
BEGIN:VEVENT
UID:27063e12-3141-4b9f-990c-8b64d06da05b@www.papich-kubafs.com
DTSTAMP:20260421T210206Z
DTSTART:20260425T190000Z
DTEND:20260425T200000Z
SUMMARY:Funeral Service
DESCRIPTION:
URL:https://www.papich-kubafs.com/obituaries/jon-homsey
LOCATION: 3650 Cottage Grove Avenue Southeast  Cedar Rapids IA 52403
GEO:41.9954562;-91.6144096
END:VEVENT
END:VCALENDAR