BEGIN:VCALENDAR
VERSION:2.0
PRODID:-//Tukios.com/
BEGIN:VEVENT
UID:0c7f37b6-9788-4a36-87e7-df53a121e1d8@www.papich-kubafs.com
DTSTAMP:20260421T205550Z
DTSTART:20260425
SUMMARY:Burial
DESCRIPTION:
URL:https://www.papich-kubafs.com/obituaries/jon-homsey
LOCATION: 1612 12th Avenue Southeast  Cedar Rapids IA 52401
GEO:41.9739171;-91.6479236
END:VEVENT
END:VCALENDAR