BEGIN:VCALENDAR
VERSION:2.0
PRODID:-//Tukios.com/
BEGIN:VEVENT
UID:af8867e2-c6bf-470a-bea1-0ca46d635cb4@www.papich-kubafs.com
DTSTAMP:20260421T205859Z
DTSTART:20260425
SUMMARY:Celebration of Life
DESCRIPTION:
URL:https://www.papich-kubafs.com/obituaries/jon-homsey
LOCATION:Springs of Life Church 2300 26th St NW  Cedar Rapids IA 52405
GEO:42.0019914;-91.7078615
END:VEVENT
END:VCALENDAR